{"text_format":"3","workbook":"xlsx","n_sheets":2,"sheets":["Рус яз РОШ","Направления"],"not_rendered":{"external_links":1,"defined_names":8},"read":"whole","date_system":"1900"}

{"sheet":"Рус яз РОШ","index":0,"n_rows":26,"n_cols":18,"rows_kept":26}
["№","СНИЛС","Фамилия","Имя","Отчество","Пол","Дата рождения","Участник с ОВЗ","Класс","Класс участия","Балл","Макс. Балл","Статус","Призер МЭ прошлого года","Учитель","Место работы учителя","Профиль/Направление","Виды практик"]
[1,2,3,4,5,6,7,8,9,10,11,12,13,14,15,16,17,18]
[1,"176-802-614 86","Закирова ","Эсмина","Ильдусовна","ж","2013-05-15","нет",5,5,52,80,"победитель","нет","Зиннатуллина Рамиля Халимовна","МБОУ \"Уруссинская гимназия\"",null,"русский язык РОШ"]
[2,"176-576-695 35","Ерыганов ","Артем","Алексндрович","м","2013-05-01","нет",5,5,29,80,"участник","нет","Зиннатуллина Рамиля Халимовна","МБОУ \"Уруссинская гимназия\"",null,"русский язык РОШ"]
[3,"174-936-487 19","Галиуллин ","Артем","Айнурович","м","2012-12-25","нет",5,5,27,80,"участник","нет","Зиннатуллина Рамиля Халимовна","МБОУ \"Уруссинская гимназия\"",null,"русский язык РОШ"]
[4,"178-573-544 23","Камаев ","Риналь","Рушанович","м","2013-09-28","нет",5,5,13,80,"участник","нет","Зиннатуллина Рамиля Халимовна","МБОУ \"Уруссинская гимназия\"",null,"русский язык РОШ"]
[5,"168-507-780 06"," Галиев ","Раиль  ","Рафисович","м","30.09 2011","нет",7,7,64,80,"участник","нет","Зиннатуллина Рамиля Халимовна","МБОУ \"Уруссинская гимназия\"",null,"русский язык РОШ"]
[6,"167-481-865 14","Закирова ","Амира ","Ильдусовна","ж","2010-08-24","нет",8,8,73,100,"победитель","нет","Зиннатуллина Рамиля Халимовна","МБОУ \"Уруссинская гимназия\"",null,"русский язык РОШ"]
[7,"165-019-705 58","Харисова ","Камилла ","Ленаровна","ж","2010-02-14","нет",8,8,67,100,"призер","нет","Зиннатуллина Рамиля Халимовна","МБОУ \"Уруссинская гимназия\"",null,"русский язык РОШ"]
[8,"164-045-464 52","Сибагатова ","Асель ","Маратовна","ж","2011-02-19","нет",8,8,55,100,"призер","нет","Зиннатуллина Рамиля Халимовна","МБОУ \"Уруссинская гимназия\"",null,"русский язык РОШ"]
[9,"178-126-283 85","Шарифуллина ","Альбина ","Эльвировна","ж","2010-08-21","нет",8,8,56,100,"призер","нет","Зиннатуллина Рамиля Халимовна","МБОУ \"Уруссинская гимназия\"",null,"русский язык РОШ"]
[10,"153-947-476 02","Габдрахманова  ","Диана","Айратовна","ж","2009-03-13","нет",9,9,74,100,"победитель","нет","Зиннатуллина Рамиля Халимовна","МБОУ \"Уруссинская гимназия\"",null,"русский язык РОШ"]
[11,"154-581-902 79","Яхин  ","Нияз","Азатович","м","2009-03-30","нет",10,10,63,100,"победитель","нет","Зиннатуллина Рамиля Халимовна","МБОУ \"Уруссинская гимназия\"",null,"русский язык РОШ"]
[12,"176-831-428 97","Бахтиярова","Алия","Дамировна","ж","2013-05-20","нет",5,5,52,80,"победитель","нет","Нафикова Вера Николаевна","МБОУ \"Уруссинская гимназия\"",null,"русский язык РОШ"]
[13,"149-630-926 91","Зарипова","Алина","Ринатовна","ж","2007-03-03","нет",11,11,60,100,"призер","да","Нафикова Вера Николаевна","МБОУ \"Уруссинская гимназия\"",null,"русский язык РОШ"]
[14,"176-505-531 78","Хафизова","Диляра","Нафисовна","ж","2013-04-19","нет  ",5,5,50,80,"призер","нет","Галиева Елена Николаевна","МБОУ \"Уруссинская гимназия\"",null,"русский язык РОШ"]
[15,{"$f":"[1]Труд!B14","v":"154-569-597-11"},{"$f":"[1]Труд!C14","v":"Гарипова "},{"$f":"[1]Труд!D14","v":"Гульнур"},{"$f":"[1]Труд!E14","v":"Ильдаровна"},{"$f":"[1]Труд!F14","v":"ж"},"2009-04-25",{"$f":"[1]Труд!H14","v":"нет"},{"$f":"[1]Труд!I14","v":9},{"$f":"[1]Труд!J14","v":9},{"$f":"[1]Труд!K14","v":60},{"$f":"[1]Труд!L14","v":100},{"$f":"[1]Труд!M14","v":"призер"},{"$f":"[1]Труд!N14","v":"нет"},{"$f":"[1]Труд!O14","v":"Шарифуллина Л.Р."},"МБОУ \"Уруссинская гимназия\"",{"$f":"[1]Труд!Q14","v":0},"русский язык РОШ"]
[16,{"$f":"[1]Труд!B15","v":"153-240-884-63"},{"$f":"[1]Труд!C15","v":"Ямаев "},{"$f":"[1]Труд!D15","v":"Амир "},{"$f":"[1]Труд!E15","v":"Фанисович"},{"$f":"[1]Труд!F15","v":" м "},"2010-06-05",{"$f":"[1]Труд!H15","v":"нет"},{"$f":"[1]Труд!I15","v":8},{"$f":"[1]Труд!J15","v":8},{"$f":"[1]Труд!K15","v":65},{"$f":"[1]Труд!L15","v":100},{"$f":"[1]Труд!M15","v":"призер"},{"$f":"[1]Труд!N15","v":"нет"},{"$f":"[1]Труд!O15","v":"Шарифуллина Л.Р."},"МБОУ \"Уруссинская гимназия\"",{"$f":"[1]Труд!Q15","v":0},"русский язык РОШ"]
[17,{"$f":"[1]Труд!B16","v":"153-185-944-74"},{"$f":"[1]Труд!C16","v":"Гимадиев"},{"$f":"[1]Труд!D16","v":"Алмаз"},{"$f":"[1]Труд!E16","v":"Фанисович"},{"$f":"[1]Труд!F16","v":"м "},"2009-07-15",{"$f":"[1]Труд!H16","v":"нет"},{"$f":"[1]Труд!I16","v":8},{"$f":"[1]Труд!J16","v":8},{"$f":"[1]Труд!K16","v":55},{"$f":"[1]Труд!L16","v":100},{"$f":"[1]Труд!M16","v":"призер"},{"$f":"[1]Труд!N16","v":"нет"},{"$f":"[1]Труд!O16","v":"Шарифуллина Л.Р."},"МБОУ \"Уруссинская гимназия\"",{"$f":"[1]Труд!Q16","v":0},"русский язык РОШ"]
[18,{"$f":"[1]Труд!B17","v":"174-311-231-50"},{"$f":"[1]Труд!C17","v":"Кашапова"},{"$f":"[1]Труд!D17","v":"Диля"},{"$f":"[1]Труд!E17","v":"Динаровна"},{"$f":"[1]Труд!F17","v":"ж"},"2012-07-12",{"$f":"[1]Труд!H17","v":"нет"},{"$f":"[1]Труд!I17","v":6},{"$f":"[1]Труд!J17","v":6},{"$f":"[1]Труд!K17","v":70},{"$f":"[1]Труд!L17","v":80},{"$f":"[1]Труд!M17","v":"победитель"},{"$f":"[1]Труд!N17","v":"нет"},{"$f":"[1]Труд!O17","v":"Шарифуллина Л.Р."},"МБОУ \"Уруссинская гимназия\"",{"$f":"[1]Труд!Q17","v":0},"русский язык РОШ"]
[19,{"$f":"[1]Труд!B18","v":"174-503-241-49"},{"$f":"[1]Труд!C18","v":"Хафизова"},{"$f":"[1]Труд!D18","v":"Ясмина"},{"$f":"[1]Труд!E18","v":"Линаровна"},{"$f":"[1]Труд!F18","v":"ж"},"2012-11-16",{"$f":"[1]Труд!H18","v":"нет"},{"$f":"[1]Труд!I18","v":6},{"$f":"[1]Труд!J18","v":6},{"$f":"[1]Труд!K18","v":60},{"$f":"[1]Труд!L18","v":80},{"$f":"[1]Труд!M18","v":"призер"},{"$f":"[1]Труд!N18","v":"нет"},{"$f":"[1]Труд!O18","v":"Шарифуллина Л.Р."},{"$f":"[1]Труд!P18","v":"МБОУ \"Уруссинская гимназия\""},{"$f":"[1]Труд!Q18","v":0},"русский язык РОШ"]
[20,{"$f":"[1]Труд!B19","v":"171-416-985-72"},{"$f":"[1]Труд!C19","v":"Бикбулатова "},{"$f":"[1]Труд!D19","v":"Милана"},{"$f":"[1]Труд!E19","v":"Ильдаровна"},{"$f":"[1]Труд!F19","v":"ж"},"2012-04-09",{"$f":"[1]Труд!H19","v":"нет"},{"$f":"[1]Труд!I19","v":6},{"$f":"[1]Труд!J19","v":6},{"$f":"[1]Труд!K19","v":65},{"$f":"[1]Труд!L19","v":80},{"$f":"[1]Труд!M19","v":"призер"},{"$f":"[1]Труд!N19","v":"нет"},{"$f":"[1]Труд!O19","v":"Шарифуллина Л.Р."},{"$f":"[1]Труд!P19","v":"МБОУ \"Уруссинская гимназия\""},{"$f":"[1]Труд!Q19","v":0},"русский язык РОШ"]
[21,{"$f":"[1]Труд!B20","v":"169-816-969-43"},{"$f":"[1]Труд!C20","v":"Ковалёв"},{"$f":"[1]Труд!D20","v":"Илья"},{"$f":"[1]Труд!E20","v":"Андреевич"},{"$f":"[1]Труд!F20","v":"м"},"2012-01-04",{"$f":"[1]Труд!H20","v":"нет"},{"$f":"[1]Труд!I20","v":6},{"$f":"[1]Труд!J20","v":6},{"$f":"[1]Труд!K20","v":60},{"$f":"[1]Труд!L20","v":80},{"$f":"[1]Труд!M20","v":"призер"},{"$f":"[1]Труд!N20","v":"нет"},{"$f":"[1]Труд!O20","v":"Шарифуллина Л.Р."},{"$f":"[1]Труд!P20","v":"МБОУ \"Уруссинская гимназия\""},{"$f":"[1]Труд!Q20","v":0},"русский язык РОШ"]
[22,{"$f":"[1]Труд!B21","v":"170-704-647-55"},{"$f":"[1]Труд!C21","v":"Камаев "},{"$f":"[1]Труд!D21","v":"Риназ"},{"$f":"[1]Труд!E21","v":"Рушанович"},{"$f":"[1]Труд!F21","v":"м"},"2012-03-06",{"$f":"[1]Труд!H21","v":"нет"},{"$f":"[1]Труд!I21","v":6},{"$f":"[1]Труд!J21","v":6},{"$f":"[1]Труд!K21","v":65},{"$f":"[1]Труд!L21","v":80},{"$f":"[1]Труд!M21","v":"призер"},{"$f":"[1]Труд!N21","v":"нет"},{"$f":"[1]Труд!O21","v":"Шарифуллина Л.Р."},{"$f":"[1]Труд!P21","v":"МБОУ \"Уруссинская гимназия\""},{"$f":"[1]Труд!Q21","v":0},"русский язык РОШ"]
[23,{"$f":"[1]Труд!B22","v":"174-762-175-94"},{"$f":"[1]Труд!C22","v":"Макаров"},{"$f":"[1]Труд!D22","v":"Иван"},{"$f":"[1]Труд!E22","v":"Сергеевич"},{"$f":"[1]Труд!F22","v":"м"},"2012-12-04",{"$f":"[1]Труд!H22","v":"нет"},{"$f":"[1]Труд!I22","v":6},{"$f":"[1]Труд!J22","v":6},{"$f":"[1]Труд!K22","v":65},{"$f":"[1]Труд!L22","v":80},{"$f":"[1]Труд!M22","v":"призер"},{"$f":"[1]Труд!N22","v":"нет"},{"$f":"[1]Труд!O22","v":"Шарифуллина Л.Р."},{"$f":"[1]Труд!P22","v":"МБОУ \"Уруссинская гимназия\""},{"$f":"[1]Труд!Q22","v":0},"русский язык РОШ"]
[24,"169-069-843 19","Хикматова","Диляра","Ильшатовна","ж","2011-11-03","нет",7,7,55,80,"призер","нет","Шарифуллина Л.Р.","МБОУ \"Уруссинская гимназия\"",null,"русский язык РОШ"]

{"sheet":"Направления","index":1,"n_rows":16,"n_cols":2,"rows_kept":16,"merged":[[0,0,7,0],[8,0,13,0]]}
["1 - Техника, технологии и техническое творчество","1.1  Практика по ручной деревообработке"]
[null,"1.2 Практика по механической деревообработке"]
[null,"1.3 Практика по ручной металлообработке"]
[null,"1.4 Практика по механической металлообработке"]
[null,"1.5 Электрорадиотехника"]
[null,"1.6 3D-моделирование и печать"]
[null,"1.7 Практика по работе на лазерно-гравировальном станке"]
[null,"1.8 Промышленный дизайн"]
["2 - Культура дома, дизайн и технологии","2.1 Ручная обработка швейного изделия или узла"]
[null,"2.2 Механическая обработка швейного изделия или узла + Моделирование"]
[null,"2.3 Обработка швейного изделия или узла на швейно-вышивальном оборудовании + Моделирование"]
[null,"2.4 3D-моделирование и печать"]
[null,"2.5 Практика по работе на лазерно-гравировальном станке"]
[null,"2.6 Промышленный дизайн"]
["3 - Робототехника","3.1 Робототехника"]
["4 - Информационная безопасность","4.1 Не предусмотрена"]